Workbook

Sheet Total
A1: Focus Area | B1: Total
A2: Regional Scientific Meeting Total | B2: =SUM(RSM!D33) -> 0
A3: IMAST Total | B3: =SUM(IMAST!D56) -> 0
A4: Annual Meeting Total | B4: =SUM('Annual Meeting'!D42) -> 0
A5: Courses Total | B5: =SUM(Courses!D17) -> 0
A6: LEAD Total | B6: =SUM(LEAD!D6) -> 0
A7: Awards & Scholarships | B7: =SUM('Awards-Scholarship'!D16) -> 0
A8: Research Total | B8: =SUM(Research!D10) -> 0
A9: Other Total | B9: =SUM(Other!D23) -> 0
A10: Total Support Allocated | B10: =SUM(B2:B9) -> 0
A13: Support Level | B13: Minimum Spend | D13: Amount remaining to reach level
A14: Triple Diamond | B14: 500000 | D14: =SUM(B14-B10) -> 500000
A15: Double Diamond | B15: 366000 | D15: =SUM(B15-B10) -> 366000
A16: Diamond | B16: 183000 | D16: =SUM(B16-B10) -> 183000
A17: Platinum | B17: 122000 | D17: =SUM(B17-B10) -> 122000
A18: Gold | B18: 61000 | D18: =SUM(B18-B10) -> 61000
A19: Silver | B19: 30500 | D19: =SUM(B19-B10) -> 30500
A20: Bronze | B20: 15000 | D20: =SUM(B20-B10) -> 15000
A21: Sponsor | B21: 500 | D21: =SUM(B21-B10) -> 500

Sheet RSM
A1: Item | B1: Number | C1: Cost | D1: Total
A2: Exhibits
A3: Tabletop Exhibit | C3: 7500 | D3: =SUM(B3*C3) -> 0
A4: Exhibit Total | D4: =SUM(D3) -> 0
A6: Workshops
A7: Breakfast Workshop | C7: 10000 | D7: =SUM(B7*C7) -> 0
A8: Lunch Workshop | C8: 15000 | D8: =SUM(B8*C8) -> 0
A9: Workshop Total | D9: =SUM(D7:D8) -> 0
A11: Marketing
A12: Delegate Email | C12: 5000 | D12: =SUM(B12*C12) -> 0
A13: Delegate Lanyards | C13: 15000 | D13: =SUM(B13*C13) -> 0
A14: Final Program Ads
A15: Inside Front Cover | C15: 2000 | D15: =SUM(B15*C15) -> 0
A16: Full Page Inside | C16: 1500 | D16: =SUM(B16*C16) -> 0
A17: Back Cover | C17: 1000 | D17: =SUM(B17*C17) -> 0
A18: Registration Website Ad | C18: 7500 | D18: =SUM(B18*C18) -> 0
A19: Stir Sticks | C19: 10000 | D19: =SUM(B19*C19) -> 0
A20: Marketing Total | D20: =SUM(D12:D19) -> 0
A22: Educational Grants
A23: Abstract Session Sponsorship | C23: 7500 | D23: =SUM(B23*C23) -> 0
A24: Beverage Breaks | C24: 5000 | D24: =SUM(B24*C24) -> 0
A25: Educational Grant | D25: =SUM(B25*C25) -> 0
A26: E-Point Presentations | C26: 5000 | D26: =SUM(B26*C26) -> 0
A27: Translation Services | C27: 15000 | D27: =SUM(B27*C27) -> 0
A28: Welcome Reception | C28: 10000 | D28: =SUM(B28*C28) -> 0
A29: Wireless Internet | C29: 15000 | D29: =SUM(B29*C29) -> 0
A30: Educational Grant Total | D30: =SUM(D23:D29) -> 0
A33: Regional Scientific Meeting Total | D33: =SUM(D4,D9,D20,D30) -> 0

Sheet IMAST
A1: Item | B1: Number | C1: Cost | D1: Total
A2: Exhibits
A3: 2x3 Meter | C3: 10000 | D3: =SUM(B3*C3) -> 0
A4: 2x6 Meter | C4: 22000 | D4: =SUM(B4*C4) -> 0
A5: 2x9 Meter | C5: 30000 | D5: =SUM(B5*C5) -> 0
A6: Exhibit Total | D6: =SUM(D3:D5) -> 0
A8: Workshops
A9: Breakfast Workshop | C9: 15000 | D9: =SUM(B9*C9) -> 0
A10: Lunch Workshop | C10: 20000 | D10: =SUM(B10*C10) -> 0
A11: Workshop Total | D11: =SUM(D9:D10) -> 0
A13: Marketing
A14: Delegate Lanyards | C14: 20000 | D14: =SUM(B14*C14) -> 0
A15: Charging Stations | C15: 20000 | D15: =SUM(B15*C15) -> 0
A16: Stir Sticks | C16: 20000 | D16: =SUM(B16*C16) -> 0
A17: Attendee E-Blast | C17: 10000 | D17: =SUM(B17*C17) -> 0
A18: Meeting App Ad | C18: 5000 | D18: =SUM(B18*C18) -> 0
A19: Meeting App Push Notification | C19: 5000 | D19: =SUM(B19*C19) -> 0
A20: Meeting Guide Ad
A21: Back Cover | C21: 3000 | D21: =SUM(B21*C21) -> 0
A22: Inside Front Cover | C22: 2500 | D22: =SUM(B22*C22) -> 0
A23: Inside Back Cover | C23: 2500 | D23: =SUM(B23*C23) -> 0
A24: Full Page Inside | C24: 2000 | D24: =SUM(B24*C24) -> 0
A25: Video Monitor | C25: 10000 | D25: =SUM(B25*C25) -> 0
A26: Hotel Privacy Sign | C26: 15000 | D26: =SUM(B26*C26) -> 0
A27: Hotel Key Cards | C27: 15000 | D27: =SUM(B27*C27) -> 0
A28: Glass Panels - above exhibits 9-11 | C28: 5000 | D28: =SUM(B28*C28) -> 0
A29: Glass Entrance Panels | C29: 7500 | D29: =SUM(B29*C29) -> 0
A30: Innovation Update | C30: 5000 | D30: =SUM(B30*C30) -> 0
A31: Consultation Room | C31: 15000 | D31: =SUM(B31*C31) -> 0
A32: Marketing Total | D32: =SUM(D14:D31) -> 0
A34: Educational Grants
A35: Educational Grant | D35: =SUM(B35*C35) -> 0
A36: Whitecould Award Session | C36: 15000 | D36: =SUM(B36*C36) -> 0
A37: Ribbon Wall | C37: 5000 | D37: =SUM(B37*C37) -> 0
A38: Beverage Breaks | C38: 10000 | D38: =SUM(B38*C38) -> 0
A39: E-Point Presentation Kiosks | C39: 10000 | D39: =SUM(B39*C39) -> 0
A40: Welcome Reception | C40: 10000 | D40: =SUM(B40*C40) -> 0
A41: Wireless Internet | C41: 30000 | D41: =SUM(B41*C41) -> 0
A42: Cases & Cocktails
A43: Adult Spinal Deformity 1 - Wed | C43: 7500 | D43: =SUM(B43*C43) -> 0
A44: Pediatric Deformity 1 - Wed | C44: 7500 | D44: =SUM(B44*C44) -> 0
A45: Cervical Deformity 1 - Wed | C45: 7500 | D45: =SUM(B45*C45) -> 0
A46: Adult Spinal Deformity 2 - Thurs | C46: 7500 | D46: =SUM(B46*C46) -> 0
A47: Pediatric Deformity 2 - Thurs | C47: 7500 | D47: =SUM(B47*C47) -> 0
A48: Lumbar & Cervical Degen - Thurs | C48: 7500 | D48: =SUM(B48*C48) -> 0
A49: Simultaneous Translation | C49: 30000 | D49: =SUM(B49*C49) -> 0
A50: Keynote Address | C50: 20000 | D50: =SUM(B50*C50) -> 0
A51: 75-minute Think Tank | C51: 20000 | D51: =SUM(B51*C51) -> 0
A52: 90-minute Think Tank | C52: 25000 | D52: =SUM(B52*C52) -> 0
A53: Educational Grant Total | D53: =SUM(D35:D52) -> 0
A56: IMAST Total | D56: =SUM(D6,D11,D32,D53) -> 0

Sheet Annual Meeting
A1: Item | B1: Number | C1: Cost | D1: Total
A2: Workshops
A3: Breakfast Workshop | C3: 30000 | D3: =SUM(B3*C3) -> 0
A4: Lunch Workshop | C4: 40000 | D4: =SUM(B4*C4) -> 0
A5: Workshop Total | D5: =SUM(D3:D4) -> 0
A7: Marketing
A8: Charging Stations | C8: 20000 | D8: =SUM(B8*C8) -> 0
A9: Meeting App Ad | C9: 5000 | D9: =SUM(B9*C9) -> 0
A10: Meeting App Push Notification | C10: 5000 | D10: =SUM(B10*C10) -> 0
A11: Meeting Guide Ad | D11: =SUM(B11*C11) -> 0
A12: Back Cover | C12: 3000 | D12: =SUM(B12*C12) -> 0
A13: Inside Front Cover | C13: 2500 | D13: =SUM(B13*C13) -> 0
A14: Inside Back Cover | C14: 2500 | D14: =SUM(B14*C14) -> 0
A15: Full Page Inside | C15: 2000 | D15: =SUM(B15*C15) -> 0
A16: Video Monitor | C16: 15000 | D16: =SUM(B16*C16) -> 0
A17: Attendee E-Blast | C17: 15000 | D17: =SUM(B17*C17) -> 0
A18: Delegate Lanyards | C18: 40000 | D18: =SUM(B18*C18) -> 0
A19: Stir Sticks | C19: 25000 | D19: =SUM(B19*C19) -> 0
D20: =SUM(B20*C20) -> 0
A21: Marketing Total | D21: =SUM(D8:D20) -> 0
A23: Educational Grants
A24: Educational Grant | D24: =SUM(B24*C24) -> 0
A25: E-Point Presentation Kiosks | C25: 10000 | D25: =SUM(B25*C25) -> 0
A26: Ribbon Wall | C26: 5000 | D26: =SUM(B26*C26) -> 0
A27: Beverage Breaks | C27: 15000 | D27: =SUM(B27*C27) -> 0
A28: Welcome Reception | C28: 20000 | D28: =SUM(B28*C28) -> 0
A29: Pre-Meeting Course | C29: 10000 | D29: =SUM(B29*C29) -> 0
A30: Hibbs Society | C30: 5000 | D30: =SUM(B30*C30) -> 0
A31: Lunchtime Symposium | C31: 5000 | D31: =SUM(B31*C31) -> 0
A32: Wireless Internet | C32: 40000 | D32: =SUM(B32*C32) -> 0
A33: 75-minute Think Tank | C33: 20000 | D33: =SUM(B33*C33) -> 0
A34: 90-minute Think Tank | C34: 25000 | D34: =SUM(B34*C34) -> 0
A35: Traveling Fellows Reception | C35: 10000 | D35: =SUM(B35*C35) -> 0
A36: Women in Spine Breakfast | C36: 15000 | D36: =SUM(B36*C36) -> 0
... A38: Thursday Afternoon Networking Session | C38: 20000 | D38: =SUM(B38*C38) -> 0
A39: Educational Grant Total | D39: =SUM(D24:D38) -> 0
A42: Annual Meeting Total | D42: =SUM(D5,D21,D39) -> 0

Sheet Courses
A1: Item | B1: Number | C1: Cost | D1: Total
A2: Hands-On Course - International
A3: Nijmegen Station(s) | C3: 20000 | D3: =SUM(B3*C3) -> 0
A4: Total | D4: =SUM(D3:D3) -> 0
A6: Early Career Hands-On Course
A7: Station(s) | C7: 35000 | D7: =SUM(B7*C7) -> 0
A8: Total | D8: =SUM(D7:D7) -> 0
A10: Traditional Worldwide Courses
A11: Egypt - August | C11: 15000 | D11: =SUM(B11*C11) -> 0
A12: Mexico - September | C12: 15000 | D12: =SUM(B12*C12) -> 0
C13: 15000 | D13: =SUM(B13*C13) -> 0
A14: Total | D14: =SUM(D11:D13) -> 0
A17: Course Total | D17: =SUM(D4,D8,D14) -> 0

Sheet LEAD
A1: Item | B1: Number | C1: Cost | D1: Total
A2: L.E.A.D. SRS
A3: Triple Diamond | C3: 75000 | D3: =SUM(B3*C3) -> 0
A4: Double Diamond | C4: 40000 | D4: =SUM(B4*C4) -> 0
A5: All Others | D5: =SUM(B5*C5) -> 0
A6: L.E.A.D. Total | D6: =SUM(D3:D5) -> 0

Sheet Awards-Scholarship
A1: Item | B1: Number | C1: Cost | D1: Total
A2: Awards & Scholarships
A3: Edgar Dawson Fellowship | C3: 6900 | D3: =SUM(B3*C3) -> 0
A4: Eduardo Luque Fellowship | C4: 6900 | D4: =SUM(B4*C4) -> 0
A5: Emerging Tech
A6: VBT | C6: 13800 | D6: =SUM(B6*C6) -> 0
A7: AI | C7: 13800 | D7: =SUM(B7*C7) -> 0
A8: EOS | C8: 13800 | D8: =SUM(B8*C8) -> 0
A9: Global Outreach Fellowship | C9: 6900 | D9: =SUM(B9*C9) -> 0
A10: North American Resident/Fellow Scholarship | C10: 4025 | D10: =SUM(B10*C10) -> 0
A11: Lori Karol Women in Spine Award | C11: 9775 | D11: =SUM(B11*C11) -> 0
A12: Robert Winter Fellowship | C12: 13800 | D12: =SUM(B12*C12) -> 0
A13: SRS Traveling Fellowship | C13: 80500 | D13: =SUM(B13*C13) -> 0
A14: SRS-EUROSPINE Traveling Fellows Exchange | C14: 13800 | D14: =SUM(B14*C14) -> 0
D15: =SUM(B15*C15) -> 0
A16: Total | D16: =SUM(D3:D15) -> 0

Sheet Research
A1: Item | B1: Number | C1: Cost | D1: Total
A2: Research Grants
A3: Directed Research | C3: 57500 | D3: =SUM(B3*C3) -> 0
A4: Named Research Grant | D4: =SUM(B4*C4) -> 0
A5: Exploratory-Micro Grants | C5: 5750 | D5: =SUM(B5*C5) -> 0
A6: New Investigator Grants | C6: 34500 | D6: =SUM(B6*C6) -> 0
A7: Resident/Fellow Research Grant | C7: 11500 | D7: =SUM(B7*C7) -> 0
A8: Standard Research Grant | C8: 57500 | D8: =SUM(B8*C8) -> 0
D9: =SUM(B9*C9) -> 0
A10: Total | D10: =SUM(D3:D9) -> 0

Sheet Other
A1: Item | B1: Number | C1: Cost | D1: Total
A2: Other - Ads
A3: Spinal Column Ad | C3: 10000 | D3: =SUM(B3*C3) -> 0
A4: Pop-up Banner on SRS Professionals Website | C4: 12000 | D4: =SUM(B4*C4) -> 0
A5: Pop-up Banner on SRS Patient Website | C5: 8000 | D5: =SUM(B5*C5) -> 0
A6: Sponsored Content | C6: 20000 | D6: =SUM(B6*C6) -> 0
A7: Podcast Advertisement | C7: 10000 | D7: =SUM(B7*C7) -> 0
A8: Total | D8: =SUM(D3:D7) -> 0
A10: Other - Grants
A11: Podcast Educational Grant | C11: 5000 | D11: =SUM(B11*C11) -> 0
A12: REO Fund | D12: =SUM(B12*C12) -> 0
D13: =SUM(B13*C13) -> 0
A14: Total | D14: =SUM(D11:D13) -> 0
A16: Double & Triple Diamond Only
A17: Sponsored Email to the SRS Membership | C17: 20000 | D17: =SUM(B17*C17) -> 0
A18: Sponsored Social Media Package | C18: 10000 | D18: =SUM(B18*C18) -> 0
A19: Video Upgrade | C19: 5000 | D19: =SUM(B19*C19) -> 0
A20: Total | D20: =SUM(D17:D19) -> 0
A23: Other Total | D23: =SUM(D8,D14,D20) -> 0
